View In:
ArcGIS JavaScript
ArcGIS Online Map Viewer
ArcGIS Earth
Service Description: A State Lambert mosaic derived from 60cm resolution color Digital Orthophoto Quadrangles (DOQ) of the entire state of Oregon. This digital, geographically referenced data set was developed for the Oregon GIS department to provide updated state wide imagery. Digital 4 band orthoimagery covering the state of Oregon was flown in 2020. The 4 Band imagery was rectified and cut into DOQs.
Name: NAIP_2020/NAIP_2020_SL
Description: A State Lambert mosaic derived from 60cm resolution color Digital Orthophoto Quadrangles (DOQ) of the entire state of Oregon. This digital, geographically referenced data set was developed for the Oregon GIS department to provide updated state wide imagery. Digital 4 band orthoimagery covering the state of Oregon was flown in 2020. The 4 Band imagery was rectified and cut into DOQs.
Single Fused Map Cache: false
Extent:
XMin: 203998.56739069172
YMin: 67183.96677886602
XMax: 2353196.3148473194
YMax: 1683513.988170925
Spatial Reference: 102970
(6557)
Initial Extent:
XMin: 203998.56739069172
YMin: 67183.96677886602
XMax: 2353196.3148473194
YMax: 1683513.988170925
Spatial Reference: 102970
(6557)
Full Extent:
XMin: 203998.56739069172
YMin: 67183.96677886602
XMax: 2353196.3148473194
YMax: 1683513.988170925
Spatial Reference: 102970
(6557)
Pixel Size X: 1.9674631740679696
Pixel Size Y: 1.9674631740679696
Band Count: 4
Pixel Type: U8
RasterFunction Infos: {"rasterFunctionInfos": [{
"name": "None",
"description": "",
"help": ""
}]}
Mensuration Capabilities: Basic
Inspection Capabilities:
Has Histograms: true
Has Colormap: false
Has Multi Dimensions : false
Rendering Rule:
Min Scale: 0
Max Scale: 0
Resampling: false
Copyright Text: Oregon GEO, NAIP
Service Data Type: esriImageServiceDataTypeGeneric
Min Values: 1, 1, 1, 1
Max Values: 255, 255, 255, 255
Mean Values: 101.21552702532638, 108.1194411389739, 96.05132707639785, 136.4967910297832
Standard Deviation Values: 51.71659632573259, 39.934476718790265, 32.36177719287522, 47.071066624993605
Object ID Field: OBJECTID
Fields:
-
OBJECTID
(
type: esriFieldTypeOID, alias: OBJECTID
)
-
Shape
(
type: esriFieldTypeGeometry, alias: Shape
)
-
Name
(
type: esriFieldTypeString, alias: Name, length: 200
)
-
MinPS
(
type: esriFieldTypeDouble, alias: MinPS
)
-
MaxPS
(
type: esriFieldTypeDouble, alias: MaxPS
)
-
LowPS
(
type: esriFieldTypeDouble, alias: LowPS
)
-
HighPS
(
type: esriFieldTypeDouble, alias: HighPS
)
-
Category
(
type: esriFieldTypeInteger, alias: Category
, Coded Values:
[0: Unknown]
, [1: Primary]
, [2: Overview]
, ...6 more...
)
-
Tag
(
type: esriFieldTypeString, alias: Tag, length: 100
)
-
GroupName
(
type: esriFieldTypeString, alias: GroupName, length: 100
)
-
ProductName
(
type: esriFieldTypeString, alias: ProductName, length: 100
)
-
CenterX
(
type: esriFieldTypeDouble, alias: CenterX
)
-
CenterY
(
type: esriFieldTypeDouble, alias: CenterY
)
-
ZOrder
(
type: esriFieldTypeInteger, alias: ZOrder
)
-
Shape_Length
(
type: esriFieldTypeDouble, alias: Shape_Length
)
-
Shape_Area
(
type: esriFieldTypeDouble, alias: Shape_Area
)
Default Mosaic Method: Northwest
Allowed Mosaic Methods: NorthWest,Center,LockRaster,ByAttribute,Nadir,Viewpoint,Seamline,None
SortField:
SortValue: null
Mosaic Operator: First
Default Compression Quality: 75
Default Resampling Method: Bilinear
Max Record Count: 1000
Max Image Height: 4100
Max Image Width: 15000
Max Download Image Count: 20
Max Mosaic Image Count: 20
Allow Raster Function: true
Allow Copy: true
Allow Analysis: true
Allow Compute TiePoints: false
Supports Statistics: true
Supports Advanced Queries: true
Use StandardizedQueries: true
Raster Type Infos:
Name: Raster Dataset
Description: Supports all ArcGIS Raster Datasets
Help:
Has Raster Attribute Table: false
Edit Fields Info: null
Ownership Based AccessControl For Rasters: null
Child Resources:
Info
Histograms
Statistics
Key Properties
Legend
Raster Function Infos
Supported Operations:
Export Image
Query
Identify
Measure
Compute Histograms
Compute Statistics Histograms
Get Samples
Compute Class Statistics
Query GPS Info
Find Images
Image to Map
Map to Image
Measure from Image
Image to Map Multiray
Query Boundary
Compute Pixel Location
Compute Angles
Validate
Project