View In:
ArcGIS JavaScript
ArcGIS Online Map Viewer
ArcGIS Earth
ArcMap
View Footprint In:
ArcGIS Online Map Viewer
Service Description: A State Lambert mosaic derived from one-foot resolution color Digital Orthophoto Quarter Quadrangles (DOQQ) of the entire state of Oregon. This digital, geographically referenced data set was developed for the Oregon Geospatial Enterprise Office in order to provide public access to high resolution 4 band orthoimagery acquired between June and September 2022.
Name: OSIP_2022/OSIP_2022_SL
Description: A State Lambert mosaic derived from one-foot resolution color Digital Orthophoto Quarter Quadrangles (DOQQ) of the entire state of Oregon. This digital, geographically referenced data set was developed for the Oregon Geospatial Enterprise Office in order to provide public access to high resolution 4 band orthoimagery acquired between June and September 2022.
Single Fused Map Cache: false
Extent:
XMin: 204000.0527913003
YMin: 67184.63169546216
XMax: 2353197.0527912737
YMax: 1683513.6316954421
Spatial Reference: 102970
(6557)
Initial Extent:
XMin: 204000.0527913003
YMin: 67184.63169546216
XMax: 2353197.0527912737
YMax: 1683513.6316954421
Spatial Reference: 102970
(6557)
Full Extent:
XMin: 204000.0527913003
YMin: 67184.63169546216
XMax: 2353197.0527912737
YMax: 1683513.6316954421
Spatial Reference: 102970
(6557)
Pixel Size X: 0.9999999999999877
Pixel Size Y: 0.9999999999999876
Band Count: 4
Pixel Type: U8
RasterFunction Infos: {"rasterFunctionInfos": [{
"name": "None",
"description": "",
"help": ""
}]}
Mensuration Capabilities: Basic
Has Histograms: false
Has Colormap: false
Has Multi Dimensions : false
Rendering Rule:
Min Scale: 0
Max Scale: 0
Copyright Text: Oregon Statewide Imagery Program (OSIP) - Oregon Imagery Framework Implementation Team
Service Data Type: esriImageServiceDataTypeGeneric
Min Values: N/A
Max Values: N/A
Mean Values: N/A
Standard Deviation Values: N/A
Object ID Field: OBJECTID
Fields:
-
OBJECTID
(
type: esriFieldTypeOID, alias: OBJECTID
)
-
Shape
(
type: esriFieldTypeGeometry, alias: Shape
)
-
Name
(
type: esriFieldTypeString, alias: Name, length: 200
)
-
MinPS
(
type: esriFieldTypeDouble, alias: MinPS
)
-
MaxPS
(
type: esriFieldTypeDouble, alias: MaxPS
)
-
LowPS
(
type: esriFieldTypeDouble, alias: LowPS
)
-
HighPS
(
type: esriFieldTypeDouble, alias: HighPS
)
-
Category
(
type: esriFieldTypeInteger, alias: Category
, Coded Values:
[0: Unknown]
, [1: Primary]
, [2: Overview]
, ...6 more...
)
-
Tag
(
type: esriFieldTypeString, alias: Tag, length: 100
)
-
GroupName
(
type: esriFieldTypeString, alias: GroupName, length: 100
)
-
ProductName
(
type: esriFieldTypeString, alias: ProductName, length: 100
)
-
CenterX
(
type: esriFieldTypeDouble, alias: CenterX
)
-
CenterY
(
type: esriFieldTypeDouble, alias: CenterY
)
-
ZOrder
(
type: esriFieldTypeInteger, alias: ZOrder
)
-
Shape_Length
(
type: esriFieldTypeDouble, alias: Shape_Length
)
-
Shape_Area
(
type: esriFieldTypeDouble, alias: Shape_Area
)
Default Mosaic Method: Northwest
Allowed Mosaic Methods: NorthWest,Center,LockRaster,ByAttribute,Nadir,Viewpoint,Seamline,None
SortField:
SortValue: null
Mosaic Operator: First
Default Compression Quality: 75
Default Resampling Method: Bilinear
Max Record Count: 1000
Max Image Height: 4100
Max Image Width: 15000
Max Download Image Count: 20
Max Mosaic Image Count: 20
Allow Raster Function: true
Allow Copy: null
Allow Analysis: null
Allow Compute TiePoints: false
Supports Statistics: true
Supports Advanced Queries: true
Use StandardizedQueries: true
Raster Type Infos:
Name: Raster Dataset
Description: Supports all ArcGIS Raster Datasets
Help:
Has Raster Attribute Table: false
Edit Fields Info: null
Ownership Based AccessControl For Rasters: null
Child Resources:
Info
Key Properties
Legend
Raster Function Infos
Supported Operations:
Export Image
Query
Identify
Measure
Compute Histograms
Compute Statistics Histograms
Get Samples
Compute Class Statistics
Query Boundary
Compute Pixel Location
Compute Angles
Validate
Project