View In:
ArcGIS JavaScript
ArcGIS Online Map Viewer
ArcGIS Earth
Service Description: A State Lambert mosaic derived from one-foot resolution color Digital OrthophotoQuadrangles (DOQ) of the western half of the state of Oregon.This digital, geographically referenced dataset was developed for the Oregon GIS department to provide updated state wide imagery. Digital 4 bandortho imagery covering the state of Oregon was flown in 2018. The 4 Band imagery was rectified and cutinto a DOQs.
Name: OSIP_2018/OSIP_2018_SL
Description: A State Lambert mosaic derived from one-foot resolution color Digital OrthophotoQuadrangles (DOQ) of the western half of the state of Oregon.This digital, geographically referenced dataset was developed for the Oregon GIS department to provide updated state wide imagery. Digital 4 bandortho imagery covering the state of Oregon was flown in 2018. The 4 Band imagery was rectified and cutinto a DOQs.
Single Fused Map Cache: false
Extent:
XMin: 204534
YMin: 79845
XMax: 1541832
YMax: 1694028
Spatial Reference: 102970
(6557)
Initial Extent:
XMin: 204534
YMin: 79845
XMax: 1541832
YMax: 1694028
Spatial Reference: 102970
(6557)
Full Extent:
XMin: 204534
YMin: 79845
XMax: 1541832
YMax: 1694028
Spatial Reference: 102970
(6557)
Pixel Size X: 1.0
Pixel Size Y: 1.0
Band Count: 4
Pixel Type: U8
RasterFunction Infos: {"rasterFunctionInfos": [{
"name": "None",
"description": "A No-Op Function.",
"help": ""
}]}
Mensuration Capabilities: None
Inspection Capabilities:
Has Histograms: true
Has Colormap: false
Has Multi Dimensions : false
Rendering Rule:
Min Scale: 0
Max Scale: 0
Resampling: false
Copyright Text: Oregon Statewide Imagery Program (OSIP) - Oregon Imagery Framework Implementation Team
Service Data Type: esriImageServiceDataTypeGeneric
Min Values: 1, 6, 14, 1
Max Values: 241, 243, 242, 252
Mean Values: 87.62901584683628, 97.9967072280798, 86.4557403990457, 183.8390146009231
Standard Deviation Values: 46.83683382647457, 36.95119598576064, 30.596803641212485, 34.48741175040648
Object ID Field: OBJECTID
Fields:
-
OBJECTID
(
type: esriFieldTypeOID, alias: OBJECTID
)
-
Shape
(
type: esriFieldTypeGeometry, alias: Shape
)
-
Name
(
type: esriFieldTypeString, alias: Name, length: 200
)
-
MinPS
(
type: esriFieldTypeDouble, alias: MinPS
)
-
MaxPS
(
type: esriFieldTypeDouble, alias: MaxPS
)
-
LowPS
(
type: esriFieldTypeDouble, alias: LowPS
)
-
HighPS
(
type: esriFieldTypeDouble, alias: HighPS
)
-
Category
(
type: esriFieldTypeInteger, alias: Category
, Coded Values:
[0: Unknown]
, [1: Primary]
, [2: Overview]
, ...6 more...
)
-
Tag
(
type: esriFieldTypeString, alias: Tag, length: 100
)
-
GroupName
(
type: esriFieldTypeString, alias: GroupName, length: 100
)
-
ProductName
(
type: esriFieldTypeString, alias: ProductName, length: 100
)
-
CenterX
(
type: esriFieldTypeDouble, alias: CenterX
)
-
CenterY
(
type: esriFieldTypeDouble, alias: CenterY
)
-
ZOrder
(
type: esriFieldTypeInteger, alias: ZOrder
)
-
Shape_Length
(
type: esriFieldTypeDouble, alias: Shape_Length
)
-
Shape_Area
(
type: esriFieldTypeDouble, alias: Shape_Area
)
Default Mosaic Method: Northwest
Allowed Mosaic Methods: NorthWest,Center,LockRaster,ByAttribute,Nadir,Viewpoint,Seamline,None
SortField:
SortValue: null
Mosaic Operator: First
Default Compression Quality: 75
Default Resampling Method: Bilinear
Max Record Count: 1000
Max Image Height: 4100
Max Image Width: 15000
Max Download Image Count: 20
Max Mosaic Image Count: 20
Allow Raster Function: true
Allow Copy: true
Allow Analysis: true
Allow Compute TiePoints: false
Supports Statistics: true
Supports Advanced Queries: true
Use StandardizedQueries: true
Raster Type Infos:
Name: Raster Dataset
Description: Supports all ArcGIS Raster Datasets
Help:
Has Raster Attribute Table: false
Edit Fields Info: null
Ownership Based AccessControl For Rasters: null
Child Resources:
Info
Histograms
Statistics
Key Properties
Legend
Raster Function Infos
Supported Operations:
Export Image
Query
Identify
Compute Histograms
Compute Statistics Histograms
Get Samples
Compute Class Statistics
Query GPS Info
Find Images
Image to Map
Map to Image
Measure from Image
Image to Map Multiray
Query Boundary
Compute Pixel Location
Compute Angles
Validate
Project