View In:
ArcGIS JavaScript
ArcGIS Online Map Viewer
ArcGIS Earth
Service Description: A Web Mercator mosaic derived from one-meter resolution color Digital Orthophoto Quadrangles (DOQ) of the entire state of Oregon from the summer of 2011 for multiple state agencies in Oregon. The original content was produced utilizing the scanned aerial film acquired during peak agriculture growing seasons under the National Agriculture Imagery Program (NAIP) under contract for the United States Department of Agriculture (USDA) for the Farm Service Agency's (FSA) Compliance Program. A DOQ is a raster image in which displacement in the image caused by sensor orientation and terrain relief has been removed. A DOQ combines the image characteristics of a photograph with the geometric qualities of a map. The geographic extent of the DOQ is a full 7.5-minute map (latitude and longitude) with a nominal buffer. The horizontal accuracy is within 5 meters of reference ortho imagery (1992 USGS DOQs.)The 1992 USGS DOQ imagery met National Map Accuracy Standards at 1:24,000 scale for 7.5-minutequadrangles. Translated to the ground, the 0.5 mm error distance at 1:24,000 scale is 39.4 ft (12 meters),making the absolute accuracy for the 2011 Oregon DOQs +/- 17 meters. The process of reprojecting and mosaicing the images may have added a potential shift of +/-0.75 meters, making the cumulative accuracy +/-17.75 meters. The original images were projected into aGCS_WGS_1984_Web_Mercator(Auxiliary Sphere) for compatibility with other generic web map services.
Name: NAIP_2011/NAIP_2011_WM
Description: A Web Mercator mosaic derived from one-meter resolution color Digital Orthophoto Quadrangles (DOQ) of the entire state of Oregon from the summer of 2011 for multiple state agencies in Oregon. The original content was produced utilizing the scanned aerial film acquired during peak agriculture growing seasons under the National Agriculture Imagery Program (NAIP) under contract for the United States Department of Agriculture (USDA) for the Farm Service Agency's (FSA) Compliance Program. A DOQ is a raster image in which displacement in the image caused by sensor orientation and terrain relief has been removed. A DOQ combines the image characteristics of a photograph with the geometric qualities of a map. The geographic extent of the DOQ is a full 7.5-minute map (latitude and longitude) with a nominal buffer. The horizontal accuracy is within 5 meters of reference ortho imagery (1992 USGS DOQs.)The 1992 USGS DOQ imagery met National Map Accuracy Standards at 1:24,000 scale for 7.5-minutequadrangles. Translated to the ground, the 0.5 mm error distance at 1:24,000 scale is 39.4 ft (12 meters),making the absolute accuracy for the 2011 Oregon DOQs +/- 17 meters. The process of reprojecting and mosaicing the images may have added a potential shift of +/-0.75 meters, making the cumulative accuracy +/-17.75 meters. The original images were projected into aGCS_WGS_1984_Web_Mercator(Auxiliary Sphere) for compatibility with other generic web map services.
Single Fused Map Cache: true
Tile Info:
- Height: 256
- Width: 256
- DPI: 96
-
Levels of Detail: 24
-
Level ID: 1
[ Start Tile, End Tile ]
- Resolution: 78271.5169639999
- Scale: 2.95828763795777E8
-
Level ID: 2
[ Start Tile, End Tile ]
- Resolution: 39135.7584820001
- Scale: 1.47914381897889E8
-
Level ID: 3
[ Start Tile, End Tile ]
- Resolution: 19567.8792409999
- Scale: 7.3957190948944E7
-
Level ID: 4
[ Start Tile, End Tile ]
- Resolution: 9783.93962049996
- Scale: 3.6978595474472E7
-
Level ID: 5
[ Start Tile, End Tile ]
- Resolution: 4891.96981024998
- Scale: 1.8489297737236E7
- Format: MIXED
- Compression Quality: 75.0
- LERC Error: NaN
- Origin: X: -2.0037508342787E7
Y: 2.0037508342787E7
- Spatial Reference: 102100
(3857)
Storage Info:
- Storage Format: esriMapCacheStorageModeCompactV2
- Packet Size: 128
Extent:
XMin: -1.3873792894000001E7
YMin: 5150961.246299997
XMax: -1.2961260894000001E7
YMax: 5831102.246299997
Spatial Reference: 102100
(3857)
Initial Extent:
XMin: -1.3873792894000001E7
YMin: 5150961.246299997
XMax: -1.2961260894000001E7
YMax: 5831102.246299997
Spatial Reference: 102100
(3857)
Full Extent:
XMin: -1.3873792894000001E7
YMin: 5150961.246299997
XMax: -1.2961260894000001E7
YMax: 5831102.246299997
Spatial Reference: 102100
(3857)
Pixel Size X: 1.0
Pixel Size Y: 1.0
Band Count: 4
Pixel Type: U8
RasterFunction Infos: {"rasterFunctionInfos": [{
"name": "None",
"description": "A No-Op Function.",
"help": ""
}]}
Mensuration Capabilities: None
Inspection Capabilities:
Has Histograms: true
Has Colormap: false
Has Multi Dimensions : false
Rendering Rule:
Min Scale: 5.91657527591555E8
Max Scale: 4513.988705
Min LOD: 0
Max LOD: 17
Resampling: false
Copyright Text: National Agriculture Imagery Program (NAIP) under contract for the United StatesDepartment of Agriculture (USDA) for the Farm Service Agency's (FSA). Oregon Imagery Framework Implementation Team.
Service Data Type: esriImageServiceDataTypeGeneric
Min Values: 15, 19, 25, 1
Max Values: 241, 243, 241, 237
Mean Values: 120.49863033707494, 118.08406375833572, 100.98071331401667, 157.2158286739165
Standard Deviation Values: 37.22050208733144, 26.408983831193318, 22.22669789079141, 25.01722132051399
Object ID Field: OBJECTID
Fields:
-
OBJECTID
(
type: esriFieldTypeOID, alias: OBJECTID
)
-
Shape
(
type: esriFieldTypeGeometry, alias: Shape
)
-
Name
(
type: esriFieldTypeString, alias: Name, length: 200
)
-
MinPS
(
type: esriFieldTypeDouble, alias: MinPS
)
-
MaxPS
(
type: esriFieldTypeDouble, alias: MaxPS
)
-
LowPS
(
type: esriFieldTypeDouble, alias: LowPS
)
-
HighPS
(
type: esriFieldTypeDouble, alias: HighPS
)
-
Category
(
type: esriFieldTypeInteger, alias: Category
, Coded Values:
[0: Unknown]
, [1: Primary]
, [2: Overview]
, ...6 more...
)
-
Tag
(
type: esriFieldTypeString, alias: Tag, length: 100
)
-
GroupName
(
type: esriFieldTypeString, alias: GroupName, length: 100
)
-
ProductName
(
type: esriFieldTypeString, alias: ProductName, length: 100
)
-
CenterX
(
type: esriFieldTypeDouble, alias: CenterX
)
-
CenterY
(
type: esriFieldTypeDouble, alias: CenterY
)
-
ZOrder
(
type: esriFieldTypeInteger, alias: ZOrder
)
-
Shape_Length
(
type: esriFieldTypeDouble, alias: Shape_Length
)
-
Shape_Area
(
type: esriFieldTypeDouble, alias: Shape_Area
)
Default Mosaic Method: Northwest
Allowed Mosaic Methods: NorthWest,Center,LockRaster,ByAttribute,Nadir,Viewpoint,Seamline,None
SortField:
SortValue: null
Mosaic Operator: First
Default Compression Quality: 75
Default Resampling Method: Bilinear
Max Record Count: 1000
Max Image Height: 4100
Max Image Width: 15000
Max Download Image Count: 20
Max Mosaic Image Count: 20
Allow Raster Function: true
Allow Copy: true
Allow Analysis: true
Allow Compute TiePoints: false
Supports Statistics: true
Supports Advanced Queries: true
Use StandardizedQueries: true
Raster Type Infos:
Name: Raster Dataset
Description: Supports all ArcGIS Raster Datasets
Help:
Has Raster Attribute Table: false
Edit Fields Info: null
Ownership Based AccessControl For Rasters: null
Child Resources:
Info
Histograms
Statistics
Key Properties
Legend
Raster Function Infos
Supported Operations:
Export Image
Query
Identify
Compute Histograms
Compute Statistics Histograms
Get Samples
Compute Class Statistics
Query GPS Info
Find Images
Image to Map
Map to Image
Measure from Image
Image to Map Multiray
Query Boundary
Compute Pixel Location
Compute Angles
Validate
Project