{
 "currentVersion": 11.3,
 "serviceDescription": "The purpose is to provide a seamless raster image for Oregon of the 1995 one-\nmeter orthoimagery. This data depicts physical features on the surface of the earth. It has been \nconstructed to be used for online access. Digital orthoimages serve a variety of purposes, from \ninterim maps to field references for earth science investigations and analysis. The imagery (or \nextracts from it) may be useful as a layer of a geographic information system and as a tool for \nrevision of digital line graphs and topographic maps. A State Lambert mosaic derived from one-meter \nresolution Digital Orthophoto Quadrangles (DOQ) of the entire state of Oregon from the 1995 for \nmultiple state agencies in Oregon.\nOrthophotos combine the image characteristics of a photograph with the geometric qualities of a \nmap. The primary digital orthophotoquad (DOQ) is a 1-meter ground resolution, quarter-quadrangle \n(3.75-minutes of latitude by 3.75-minutes of longitude) image cast on the Universal Transverse \nMercator Projection (UTM) on the North American Datum of 1983 (NAD83).The geographic extent of the \nDOQ is equivalent to a quarter-quad plus The overedge ranges a minimum of 50 meters to a maximum of \n300 meters beyond the extremes of the primary and secondary corner points. The overedge is included \nto facilitate tonal matching for mosaicking and for the placement of the NAD83 and secondary datum \ncorner ticks. The normal orientation of data is by lines (rows) and samples (columns). Each line \ncontains a series of pixels ordered from west to east with the order of the lines from north to \nsouth. The standard, archived digital orthophoto is formatted as four ASCII header records, \nfollowed by a series of 8-bit binary image data records. The radiometric image brightness values \nare stored as 256 gray levels ranging from 0 to 255. The metadata provided in the digital \northophoto contain a wide range of descriptive information including format source information, \nproduction instrumentation and dates, and data to assist with displaying and georeferencing the \nimage. The images have been projected in to the Oregon Geographic Information Council (OGIC) \nstandard projection (Oregon Lambert). A description of the coordinate system is found at:\nhttp://gis.oregon.gov.\n",
 "name": "NAIP_1995/NAIP_1995_SL",
 "description": "The purpose is to provide a seamless raster image for Oregon of the 1995 one-\nmeter orthoimagery. This data depicts physical features on the surface of the earth. It has been \nconstructed to be used for online access. Digital orthoimages serve a variety of purposes, from \ninterim maps to field references for earth science investigations and analysis. The imagery (or \nextracts from it) may be useful as a layer of a geographic information system and as a tool for \nrevision of digital line graphs and topographic maps. A State Lambert mosaic derived from one-meter \nresolution Digital Orthophoto Quadrangles (DOQ) of the entire state of Oregon from the 1995 for \nmultiple state agencies in Oregon.\nOrthophotos combine the image characteristics of a photograph with the geometric qualities of a \nmap. The primary digital orthophotoquad (DOQ) is a 1-meter ground resolution, quarter-quadrangle \n(3.75-minutes of latitude by 3.75-minutes of longitude) image cast on the Universal Transverse \nMercator Projection (UTM) on the North American Datum of 1983 (NAD83).The geographic extent of the \nDOQ is equivalent to a quarter-quad plus The overedge ranges a minimum of 50 meters to a maximum of \n300 meters beyond the extremes of the primary and secondary corner points. The overedge is included \nto facilitate tonal matching for mosaicking and for the placement of the NAD83 and secondary datum \ncorner ticks. The normal orientation of data is by lines (rows) and samples (columns). Each line \ncontains a series of pixels ordered from west to east with the order of the lines from north to \nsouth. The standard, archived digital orthophoto is formatted as four ASCII header records, \nfollowed by a series of 8-bit binary image data records. The radiometric image brightness values \nare stored as 256 gray levels ranging from 0 to 255. The metadata provided in the digital \northophoto contain a wide range of descriptive information including format source information, \nproduction instrumentation and dates, and data to assist with displaying and georeferencing the \nimage. The images have been projected in to the Oregon Geographic Information Council (OGIC) \nstandard projection (Oregon Lambert). A description of the coordinate system is found at:\nhttp://gis.oregon.gov.\n",
 "extent": {
  "xmin": 202068.43446001364,
  "ymin": 369.87223250069655,
  "xmax": 2369401.1809799992,
  "ymax": 1706242.6302324894,
  "spatialReference": {
   "wkid": 2992,
   "latestWkid": 2992
  }
 },
 "initialExtent": {
  "xmin": 202068.43446001364,
  "ymin": 369.87223250069655,
  "xmax": 2369401.1809799992,
  "ymax": 1706242.6302324894,
  "spatialReference": {
   "wkid": 2992,
   "latestWkid": 2992
  }
 },
 "fullExtent": {
  "xmin": 202068.43446001364,
  "ymin": 369.87223250069655,
  "xmax": 2369401.1809799992,
  "ymax": 1706242.6302324894,
  "spatialReference": {
   "wkid": 2992,
   "latestWkid": 2992
  }
 },
 "sortableFields": "MinPS,MaxPS,LowPS,HighPS,CenterX,CenterY,ZOrder,Shape_Length,Shape_Area",
 "bandCount": 1,
 "pixelType": "U8",
 "minValues": [],
 "maxValues": [],
 "meanValues": [],
 "stdvValues": [],
 "hasMultidimensions": false,
 "pixelSizeX": 3.280839999999978,
 "pixelSizeY": 3.280839999999978,
 "meanPixelSize": 1.0000000319999933,
 "datasetFormat": "AMD",
 "uncompressedSize": 343480529850,
 "blockWidth": 2048,
 "blockHeight": 256,
 "compressionType": "None",
 "bandNames": [
  "Band_1"
 ],
 "allowCopy": true,
 "allowAnalysis": true,
 "itemAccess": false,
 "inspectionCapabilities": "",
 "minPixelSize": 0,
 "maxPixelSize": 0,
 "copyrightText": "Oregon GEO, NAIP",
 "serviceDataType": "esriImageServiceDataTypeGeneric",
 "serviceSourceType": "esriImageServiceSourceTypeMosaicDataset",
 "objectIdField": "OBJECTID",
 "fields": [
  {
   "name": "OBJECTID",
   "type": "esriFieldTypeOID",
   "alias": "OBJECTID",
   "domain": null
  },
  {
   "name": "Shape",
   "type": "esriFieldTypeGeometry",
   "alias": "Shape",
   "domain": null
  },
  {
   "name": "Name",
   "type": "esriFieldTypeString",
   "alias": "Name",
   "domain": null,
   "length": 200
  },
  {
   "name": "MinPS",
   "type": "esriFieldTypeDouble",
   "alias": "MinPS",
   "domain": null
  },
  {
   "name": "MaxPS",
   "type": "esriFieldTypeDouble",
   "alias": "MaxPS",
   "domain": null
  },
  {
   "name": "LowPS",
   "type": "esriFieldTypeDouble",
   "alias": "LowPS",
   "domain": null
  },
  {
   "name": "HighPS",
   "type": "esriFieldTypeDouble",
   "alias": "HighPS",
   "domain": null
  },
  {
   "name": "Category",
   "type": "esriFieldTypeInteger",
   "alias": "Category",
   "domain": {
    "type": "codedValue",
    "name": "MosaicCatalogItemCategoryDomain",
    "description": "Catalog item categories.",
    "codedValues": [
     {
      "name": "Unknown",
      "code": 0
     },
     {
      "name": "Primary",
      "code": 1
     },
     {
      "name": "Overview",
      "code": 2
     },
     {
      "name": "Unprocessed Overview",
      "code": 3
     },
     {
      "name": "Partial Overview",
      "code": 4
     },
     {
      "name": "Inactive",
      "code": 5
     },
     {
      "name": "Uploaded",
      "code": 253
     },
     {
      "name": "Incomplete",
      "code": 254
     },
     {
      "name": "Custom",
      "code": 255
     }
    ],
    "mergePolicy": "esriMPTDefaultValue",
    "splitPolicy": "esriSPTDefaultValue"
   }
  },
  {
   "name": "Tag",
   "type": "esriFieldTypeString",
   "alias": "Tag",
   "domain": null,
   "length": 100
  },
  {
   "name": "GroupName",
   "type": "esriFieldTypeString",
   "alias": "GroupName",
   "domain": null,
   "length": 100
  },
  {
   "name": "ProductName",
   "type": "esriFieldTypeString",
   "alias": "ProductName",
   "domain": null,
   "length": 100
  },
  {
   "name": "CenterX",
   "type": "esriFieldTypeDouble",
   "alias": "CenterX",
   "domain": null
  },
  {
   "name": "CenterY",
   "type": "esriFieldTypeDouble",
   "alias": "CenterY",
   "domain": null
  },
  {
   "name": "ZOrder",
   "type": "esriFieldTypeInteger",
   "alias": "ZOrder",
   "domain": null
  },
  {
   "name": "Shape_Length",
   "type": "esriFieldTypeDouble",
   "alias": "Shape_Length",
   "domain": null
  },
  {
   "name": "Shape_Area",
   "type": "esriFieldTypeDouble",
   "alias": "Shape_Area",
   "domain": null
  }
 ],
 "capabilities": "Catalog,Image,Metadata",
 "defaultMosaicMethod": "Northwest",
 "allowedMosaicMethods": "NorthWest,Center,LockRaster,ByAttribute,Nadir,Viewpoint,Seamline,None",
 "sortField": "",
 "sortValue": null,
 "sortAscending": true,
 "mosaicOperator": "First",
 "maxDownloadSizeLimit": 2048,
 "defaultCompressionQuality": 100,
 "defaultResamplingMethod": "Bilinear",
 "maxImageHeight": 4100,
 "maxImageWidth": 15000,
 "maxRecordCount": 1000,
 "maxDownloadImageCount": 20,
 "maxMosaicImageCount": 20,
 "allowRasterFunction": true,
 "rasterFunctionInfos": [
  {
   "name": "None",
   "description": "A No-Op Function.",
   "help": ""
  }
 ],
 "rasterTypeInfos": [
  {
   "name": "Raster Dataset",
   "description": "Supports all ArcGIS Raster Datasets",
   "help": ""
  }
 ],
 "mensurationCapabilities": "None",
 "hasHistograms": false,
 "hasColormap": false,
 "hasRasterAttributeTable": false,
 "minScale": 0,
 "maxScale": 0,
 "exportTilesAllowed": false,
 "supportsStatistics": true,
 "supportsAdvancedQueries": true,
 "editFieldsInfo": null,
 "ownershipBasedAccessControlForRasters": null,
 "allowComputeTiePoints": false,
 "useStandardizedQueries": true,
 "advancedQueryCapabilities": {
  "useStandardizedQueries": true,
  "supportsStatistics": true,
  "supportsOrderBy": true,
  "supportsDistinct": true,
  "supportsPagination": true
 },
 "spatialReference": {
  "wkid": 2992,
  "latestWkid": 2992
 },
 "resampling": false
}
