View In:
ArcGIS JavaScript
ArcGIS Online Map Viewer
ArcGIS Earth
ArcMap
View Footprint In:
ArcGIS Online Map Viewer
Service Description: A State Lambert mosaic derived from one-foot resolution color Digital Orthophoto Quadrangles (DOQ) of the eastern half of the state of Oregon.This digital, geographically referenced data set was developed for the Oregon GIS department to provide updated state wide imagery. Digital 4 band ortho imagery covering the state of Oregon was flown in 2017. The 4 Band imagery was rectified and cut into a DOQs.
Name: OSIP_2017/OSIP_2017_SL
Description: A State Lambert mosaic derived from one-foot resolution color Digital Orthophoto Quadrangles (DOQ) of the eastern half of the state of Oregon.This digital, geographically referenced data set was developed for the Oregon GIS department to provide updated state wide imagery. Digital 4 band ortho imagery covering the state of Oregon was flown in 2017. The 4 Band imagery was rectified and cut into a DOQs.
Single Fused Map Cache: false
Extent:
XMin: 1085412
YMin: 79613
XMax: 2352664
YMax: 1581169
Spatial Reference: 102970
(6557)
Initial Extent:
XMin: 1085412
YMin: 79613
XMax: 2352664
YMax: 1581169
Spatial Reference: 102970
(6557)
Full Extent:
XMin: 1085412
YMin: 79613
XMax: 2352664
YMax: 1581169
Spatial Reference: 102970
(6557)
Pixel Size X: 1.0
Pixel Size Y: 1.0
Band Count: 4
Pixel Type: U8
RasterFunction Infos: {"rasterFunctionInfos": [{
"name": "None",
"description": "A No-Op Function.",
"help": ""
}]}
Mensuration Capabilities:
Has Histograms: true
Has Colormap: false
Has Multi Dimensions : false
Rendering Rule:
Min Scale: 0
Max Scale: 0
Copyright Text: Oregon Statewide Imagery Program (OSIP) - Oregon Imagery Framework Implementation Team
Service Data Type: esriImageServiceDataTypeGeneric
Min Values: 12, 20, 30, 1
Max Values: 242, 242, 241, 246
Mean Values: 123.60136456720595, 118.85510341242073, 101.55085748587544, 170.3488621904909
Standard Deviation Values: 33.79138938556848, 26.072345134047996, 23.244622358282577, 21.853420539726056
Object ID Field: OBJECTID
Fields:
-
OBJECTID
(
type: esriFieldTypeOID, alias: OBJECTID
)
-
Shape
(
type: esriFieldTypeGeometry, alias: Shape
)
-
Name
(
type: esriFieldTypeString, alias: Name, length: 200
)
-
MinPS
(
type: esriFieldTypeDouble, alias: MinPS
)
-
MaxPS
(
type: esriFieldTypeDouble, alias: MaxPS
)
-
LowPS
(
type: esriFieldTypeDouble, alias: LowPS
)
-
HighPS
(
type: esriFieldTypeDouble, alias: HighPS
)
-
Category
(
type: esriFieldTypeInteger, alias: Category
,
Coded Values:
[0: Unknown]
,
[1: Primary]
,
[2: Overview]
, ...6 more...
)
-
Tag
(
type: esriFieldTypeString, alias: Tag, length: 100
)
-
GroupName
(
type: esriFieldTypeString, alias: GroupName, length: 100
)
-
ProductName
(
type: esriFieldTypeString, alias: ProductName, length: 100
)
-
CenterX
(
type: esriFieldTypeDouble, alias: CenterX
)
-
CenterY
(
type: esriFieldTypeDouble, alias: CenterY
)
-
ZOrder
(
type: esriFieldTypeInteger, alias: ZOrder
)
-
Shape_Length
(
type: esriFieldTypeDouble, alias: Shape_Length
)
-
Shape_Area
(
type: esriFieldTypeDouble, alias: Shape_Area
)
Default Mosaic Method: Northwest
Allowed Mosaic Methods: NorthWest,Center,LockRaster,ByAttribute,Nadir,Viewpoint,Seamline,None
SortField:
SortValue: null
Mosaic Operator: First
Default Compression Quality: 100
Default Resampling Method: Bilinear
Max Record Count: 1000
Max Image Height: 4100
Max Image Width: 15000
Max Download Image Count: 20
Max Mosaic Image Count: 20
Allow Raster Function: true
Allow Copy: null
Allow Analysis: null
Allow Compute TiePoints: false
Supports Statistics: true
Supports Advanced Queries: true
Use StandardizedQueries: true
Raster Type Infos:
Name: Raster Dataset
Description: Supports all ArcGIS Raster Datasets
Help:
Has Raster Attribute Table: false
Edit Fields Info: null
Ownership Based AccessControl For Rasters: null
Child Resources:
Info
Histograms
Key Properties
Legend
Raster Function Infos
Supported Operations:
Export Image
Query
Identify
Measure
Compute Histograms
Compute Statistics Histograms
Get Samples
Compute Class Statistics
Query Boundary
Compute Pixel Location
Compute Angles
Validate
Project