{
 "currentVersion": 10.91,
 "serviceDescription": "A mosaic derived from half-meter resolution color Digital Orthophoto Quadrangles (DOQ) of the entire state of Oregon from the summer of 2005 for multiple state agencies in Oregon. The original content was produced utilizing the scanned aerial film acquired during peak agriculture growing seasons under the National Agriculture Imagery Program (NAIP) under contract for the United States Department of Agriculture (USDA) for the Farm Service Agency's (FSA) Compliance Program. A DOQ is a raster image in which displacement in the image caused by sensor orientation and terrain relief has been removed. A DOQ combines the image characteristics of a photograph with the geometric qualities of a map. The geographic extent of the DOQ is a full 7.5-minute map (latitude and longitude) with a nominal buffer. The horizontal accuracy is within 5 meters of reference ortho imagery (1992 USGS DOQs.) The 1992 USGS DOQ imagery met National Map Accuracy Standards at 1:24,000 scale for 7.5-minute quadrangles. Translated to the ground, the 0.5 mm error distance at 1:24,000 scale is 39.4 ft (12 meters), making the absolute accuracy for the 2005 Oregon DOQs +/- 17 meters. The process of reprojecting and mosaicing the images may have added a potential shift of +/-0.75 meters, making the cumulative accuracy +/-17.75 meters. The original images were projected into Oregon Lambert (2992).",
 "name": "NAIP_2005/NAIP_2005_SL",
 "description": "A mosaic derived from half-meter resolution color Digital Orthophoto Quadrangles (DOQ) of the entire state of Oregon from the summer of 2005 for multiple state agencies in Oregon. The original content was produced utilizing the scanned aerial film acquired during peak agriculture growing seasons under the National Agriculture Imagery Program (NAIP) under contract for the United States Department of Agriculture (USDA) for the Farm Service Agency's (FSA) Compliance Program. A DOQ is a raster image in which displacement in the image caused by sensor orientation and terrain relief has been removed. A DOQ combines the image characteristics of a photograph with the geometric qualities of a map. The geographic extent of the DOQ is a full 7.5-minute map (latitude and longitude) with a nominal buffer. The horizontal accuracy is within 5 meters of reference ortho imagery (1992 USGS DOQs.) The 1992 USGS DOQ imagery met National Map Accuracy Standards at 1:24,000 scale for 7.5-minute quadrangles. Translated to the ground, the 0.5 mm error distance at 1:24,000 scale is 39.4 ft (12 meters), making the absolute accuracy for the 2005 Oregon DOQs +/- 17 meters. The process of reprojecting and mosaicing the images may have added a potential shift of +/-0.75 meters, making the cumulative accuracy +/-17.75 meters. The original images were projected into Oregon Lambert (2992).",
 "extent": {
  "xmin": 219342,
  "ymin": 44586,
  "xmax": 2370634.5,
  "ymax": 1707285,
  "spatialReference": {
   "wkid": 2992,
   "latestWkid": 2992
  }
 },
 "initialExtent": {
  "xmin": 219342,
  "ymin": 44586,
  "xmax": 2370634.5,
  "ymax": 1707285,
  "spatialReference": {
   "wkid": 2992,
   "latestWkid": 2992
  }
 },
 "fullExtent": {
  "xmin": 219342,
  "ymin": 44586,
  "xmax": 2370634.5,
  "ymax": 1707285,
  "spatialReference": {
   "wkid": 2992,
   "latestWkid": 2992
  }
 },
 "pixelSizeX": 1.5,
 "pixelSizeY": 1.5,
 "bandCount": 3,
 "pixelType": "U8",
 "minPixelSize": 0,
 "maxPixelSize": 0,
 "copyrightText": "National Agriculture Imagery Program (NAIP) under contract for the United States Department of Agriculture (USDA) for the Farm Service Agency's (FSA). Oregon Imagery Framework Implementation Team. ",
 "serviceDataType": "esriImageServiceDataTypeRGB",
 "minValues": [
  0,
  0,
  0
 ],
 "maxValues": [
  255,
  255,
  255
 ],
 "meanValues": [
  128.22119609555665,
  128.5797036809399,
  116.53384781259236
 ],
 "stdvValues": [
  29.769669406971435,
  26.511564927937943,
  22.91391166796969
 ],
 "objectIdField": "OBJECTID",
 "fields": [
  {
   "name": "OBJECTID",
   "type": "esriFieldTypeOID",
   "alias": "OBJECTID",
   "domain": null
  },
  {
   "name": "Shape",
   "type": "esriFieldTypeGeometry",
   "alias": "Shape",
   "domain": null
  },
  {
   "name": "Name",
   "type": "esriFieldTypeString",
   "alias": "Name",
   "domain": null,
   "length": 200
  },
  {
   "name": "MinPS",
   "type": "esriFieldTypeDouble",
   "alias": "MinPS",
   "domain": null
  },
  {
   "name": "MaxPS",
   "type": "esriFieldTypeDouble",
   "alias": "MaxPS",
   "domain": null
  },
  {
   "name": "LowPS",
   "type": "esriFieldTypeDouble",
   "alias": "LowPS",
   "domain": null
  },
  {
   "name": "HighPS",
   "type": "esriFieldTypeDouble",
   "alias": "HighPS",
   "domain": null
  },
  {
   "name": "Category",
   "type": "esriFieldTypeInteger",
   "alias": "Category",
   "domain": {
    "type": "codedValue",
    "name": "MosaicCatalogItemCategoryDomain",
    "description": "Catalog item categories.",
    "codedValues": [
     {
      "name": "Unknown",
      "code": 0
     },
     {
      "name": "Primary",
      "code": 1
     },
     {
      "name": "Overview",
      "code": 2
     },
     {
      "name": "Unprocessed Overview",
      "code": 3
     },
     {
      "name": "Partial Overview",
      "code": 4
     },
     {
      "name": "Inactive",
      "code": 5
     },
     {
      "name": "Uploaded",
      "code": 253
     },
     {
      "name": "Incomplete",
      "code": 254
     },
     {
      "name": "Custom",
      "code": 255
     }
    ],
    "mergePolicy": "esriMPTDefaultValue",
    "splitPolicy": "esriSPTDefaultValue"
   }
  },
  {
   "name": "Tag",
   "type": "esriFieldTypeString",
   "alias": "Tag",
   "domain": null,
   "length": 100
  },
  {
   "name": "GroupName",
   "type": "esriFieldTypeString",
   "alias": "GroupName",
   "domain": null,
   "length": 100
  },
  {
   "name": "ProductName",
   "type": "esriFieldTypeString",
   "alias": "ProductName",
   "domain": null,
   "length": 100
  },
  {
   "name": "CenterX",
   "type": "esriFieldTypeDouble",
   "alias": "CenterX",
   "domain": null
  },
  {
   "name": "CenterY",
   "type": "esriFieldTypeDouble",
   "alias": "CenterY",
   "domain": null
  },
  {
   "name": "ZOrder",
   "type": "esriFieldTypeInteger",
   "alias": "ZOrder",
   "domain": null
  },
  {
   "name": "Shape_Length",
   "type": "esriFieldTypeDouble",
   "alias": "Shape_Length",
   "domain": null
  },
  {
   "name": "Shape_Area",
   "type": "esriFieldTypeDouble",
   "alias": "Shape_Area",
   "domain": null
  }
 ],
 "capabilities": "Image,Metadata,Catalog",
 "defaultMosaicMethod": "Northwest",
 "allowedMosaicMethods": "NorthWest,Center,LockRaster,ByAttribute,Nadir,Viewpoint,Seamline,None",
 "sortField": "",
 "sortValue": null,
 "sortAscending": true,
 "mosaicOperator": "First",
 "maxDownloadSizeLimit": 2048,
 "defaultCompressionQuality": 100,
 "defaultResamplingMethod": "Bilinear",
 "maxImageHeight": 4100,
 "maxImageWidth": 15000,
 "maxRecordCount": 1000,
 "maxDownloadImageCount": 20,
 "maxMosaicImageCount": 20,
 "allowRasterFunction": true,
 "rasterFunctionInfos": [
  {
   "name": "None",
   "description": "A No-Op Function.",
   "help": ""
  }
 ],
 "rasterTypeInfos": [
  {
   "name": "Raster Dataset",
   "description": "Supports all ArcGIS Raster Datasets",
   "help": ""
  }
 ],
 "mensurationCapabilities": "None",
 "hasHistograms": true,
 "hasColormap": false,
 "hasRasterAttributeTable": false,
 "minScale": 0,
 "maxScale": 0,
 "exportTilesAllowed": false,
 "hasMultidimensions": false,
 "supportsStatistics": true,
 "supportsAdvancedQueries": true,
 "editFieldsInfo": null,
 "ownershipBasedAccessControlForRasters": null,
 "allowComputeTiePoints": false,
 "useStandardizedQueries": true,
 "advancedQueryCapabilities": {
  "useStandardizedQueries": true,
  "supportsStatistics": true,
  "supportsOrderBy": true,
  "supportsDistinct": true,
  "supportsPagination": true
 },
 "spatialReference": {
  "wkid": 2992,
  "latestWkid": 2992
 }
}
